BEGIN:VCALENDAR
PRODID:-//eluceo/ical//2.0/EN
VERSION:2.0
CALSCALE:GREGORIAN
BEGIN:VEVENT
UID:eea11222058108d31cbc30ed0c50af86
DTSTAMP:20260420T071101Z
SUMMARY:Die Blechtrommel
DESCRIPTION:Konzertlesung nach Günter Grass mit Devid Striesow (Lesung) un
 d Stefan Weinzierl (Schlagwerk)
DTSTART;TZID=Europe/Berlin:20231111T200000
DTEND;TZID=Europe/Berlin:20231111T220000
LOCATION:Alfred-Rust-Saal\, Wulfsdorfer Weg 71\, 22926 Ahrensburg
ORGANIZER;CN=Theater und Musik in Ahrensburg e.V.:mailto:kontakt@theater-un
 d-musik-in-ahrensburg.de
END:VEVENT
END:VCALENDAR
