BEGIN:VCALENDAR
PRODID:-//eluceo/ical//2.0/EN
VERSION:2.0
CALSCALE:GREGORIAN
BEGIN:VEVENT
UID:cf9273882efdead38bc4379880fb0492
DTSTAMP:20260420T200526Z
SUMMARY:Die Dinge meiner Eltern
DESCRIPTION:Mit Gilla Cremer
DTSTART;TZID=Europe/Berlin:20230924T200000
DTEND;TZID=Europe/Berlin:20230924T220000
LOCATION:Alfred-Rust-Saal\, Wulfsdorfer Weg 71\, 22926 Ahrensburg
ORGANIZER;CN=Theater und Musik in Ahrensburg e.V.:mailto:kontakt@theater-un
 d-musik-in-ahrensburg.de
END:VEVENT
END:VCALENDAR
