BEGIN:VCALENDAR
PRODID:-//eluceo/ical//2.0/EN
VERSION:2.0
CALSCALE:GREGORIAN
BEGIN:VEVENT
UID:54e79f87f2c36b3049835dce3ea10000
DTSTAMP:20260421T103230Z
SUMMARY:5. Abonnementskonzert
DESCRIPTION:Martin Stadtfeld (Klavier) und Maurice Steger (Blockflöte)
DTSTART;TZID=Europe/Berlin:20230319T200000
DTEND;TZID=Europe/Berlin:20230319T220000
LOCATION:Eduard Söring Saal\, Waldstraße 14\, 22926 Ahrensburg
ORGANIZER;CN=Theater und Musik in Ahrensburg e.V.:mailto:kontakt@theater-un
 d-musik-in-ahrensburg.de
END:VEVENT
END:VCALENDAR
